BEGIN:VCALENDAR
VERSION:2.0
CALSCALE:GREGORIAN
PRODID:-//Diputació de Barcelona//DibaCMS//EN
BEGIN:VEVENT
UID:3150
DTSTAMP:20260421T160008
DTSTART:20180215T170000
DTEND:20180215T210000
SUMMARY:Nova campanya de donació de sang a la Rectoria
LOCATION:
METHOD:PUBLISH
X-WR-CALNAME:capellades@capellades.cat
X-WR-TIMEZONE:Europe/Madrid
DESCRIPTION:Atenció perque la nova campanya de recollida de sang a Capellades, organitzada des del Banc de Sang i Teixits, es farà finalment a la Rectoria i no al Teatre de La Lliga com s'havia anunciat.

URI:https://www.capellades.cat/actualitat/agenda/nova-campanya-de-donacio-de-sang-a-la-rectoria.html
CLASS:PUBLIC
END:VEVENT
END:VCALENDAR
