BEGIN:VCALENDAR
VERSION:2.0
CALSCALE:GREGORIAN
PRODID:-//Diputació de Barcelona//DibaCMS//EN
BEGIN:VEVENT
UID:3148
DTSTAMP:20260422T093046
DTSTART:20180211T100000
DTEND:20180211T140000
SUMMARY:Mercat d'Antiguitats
LOCATION:
METHOD:PUBLISH
X-WR-CALNAME:capellades@capellades.cat
X-WR-TIMEZONE:Europe/Madrid
DESCRIPTION:Nova edició del Mercat d'Antiguitats, organitzat pels Amics de les Antiguitats de l'Anoia.

URI:https://www.capellades.cat/actualitat/agenda/3148-mercat-dantiguitats.html
CLASS:PUBLIC
END:VEVENT
END:VCALENDAR
