BEGIN:VCALENDAR
VERSION:2.0
CALSCALE:GREGORIAN
PRODID:-//Diputació de Barcelona//DibaCMS//EN
BEGIN:VEVENT
UID:3147
DTSTAMP:20260421T120536
DTSTART:20180223T180000
DTEND:20180223T190000
SUMMARY:Storytelling: Contes tradicionals en anglès
LOCATION:C/ Pilar, 2 08786 Capellades
METHOD:PUBLISH
X-WR-CALNAME:capellades@capellades.cat
X-WR-TIMEZONE:Europe/Madrid
DESCRIPTION:Nova proposta de la Biblioteca El Safareig: un cop al mes, s'explicaran contes tradicionals en anglès.

URI:https://www.capellades.cat/actualitat/agenda/storytelling-contes-tradicionals-en-angles.html
CLASS:PUBLIC
END:VEVENT
END:VCALENDAR
