BEGIN:VCALENDAR
VERSION:2.0
CALSCALE:GREGORIAN
PRODID:-//Diputació de Barcelona//DibaCMS//EN
BEGIN:VEVENT
UID:3146
DTSTAMP:20260422T033057
DTSTART:20180225T100000
DTEND:20180225T200000
SUMMARY:Mercat Figueter de Capellades
LOCATION:
METHOD:PUBLISH
X-WR-CALNAME:capellades@capellades.cat
X-WR-TIMEZONE:Europe/Madrid
DESCRIPTION:El segon diumenge de Quaresma es celebra a Capellades el Mercat Figueter.

URI:https://www.capellades.cat/actualitat/agenda/3146-mercat-figueter-de-capellades.html
CLASS:PUBLIC
END:VEVENT
END:VCALENDAR
