BEGIN:VCALENDAR
VERSION:2.0
CALSCALE:GREGORIAN
PRODID:-//Diputació de Barcelona//DibaCMS//EN
BEGIN:VEVENT
UID:3140
DTSTAMP:20260421T101747
DTSTART:20180225T110000
DTEND:20180225T130000
SUMMARY:Portes obertes a l'Institut Molí de la Vila
LOCATION:
METHOD:PUBLISH
X-WR-CALNAME:capellades@capellades.cat
X-WR-TIMEZONE:Europe/Madrid
DESCRIPTION:La Jornada de Portes Obertes de l'Institut Molí de la Vila serà el 25 de febrer.

URI:https://www.capellades.cat/actualitat/agenda/portes-obertes-a-linstitut-moli-de-la-vila.html
CLASS:PUBLIC
END:VEVENT
END:VCALENDAR
