BEGIN:VCALENDAR
VERSION:2.0
CALSCALE:GREGORIAN
PRODID:-//Diputació de Barcelona//DibaCMS//EN
BEGIN:VEVENT
UID:3136
DTSTAMP:20260422T065725
DTSTART:20180204T180000
DTEND:20180204T200000
SUMMARY:Ball de Festa Major
LOCATION:
METHOD:PUBLISH
X-WR-CALNAME:capellades@capellades.cat
X-WR-TIMEZONE:Europe/Madrid
DESCRIPTION:
URI:https://www.capellades.cat/actualitat/agenda/ball-de-festa-major.html
CLASS:PUBLIC
END:VEVENT
END:VCALENDAR
