BEGIN:VCALENDAR
VERSION:2.0
CALSCALE:GREGORIAN
PRODID:-//Diputació de Barcelona//DibaCMS//EN
BEGIN:VEVENT
UID:3135
DTSTAMP:20260421T131625
DTSTART:20180215T190000
DTEND:20180215T200000
SUMMARY:Club de Lectura
LOCATION:
METHOD:PUBLISH
X-WR-CALNAME:capellades@capellades.cat
X-WR-TIMEZONE:Europe/Madrid
DESCRIPTION:La trobada d'aquest mes de febrer del Club de Lectura serà per parlar sobre el llibre "Aigua per a elefants", de Sara Gruen.

URI:https://www.capellades.cat/actualitat/agenda/3135-club-de-lectura.html
CLASS:PUBLIC
END:VEVENT
END:VCALENDAR
