BEGIN:VCALENDAR
VERSION:2.0
CALSCALE:GREGORIAN
PRODID:-//Diputació de Barcelona//DibaCMS//EN
BEGIN:VEVENT
UID:3134
DTSTAMP:20260422T115134
DTSTART:20180214T180000
DTEND:20180214T200000
SUMMARY:Taller de Carnestoltes
LOCATION:
METHOD:PUBLISH
X-WR-CALNAME:capellades@capellades.cat
X-WR-TIMEZONE:Europe/Madrid
DESCRIPTION:La Biblioteca El Safareig de Capellades proposa com a taller de carnestoltes: Fes el teu penjador Doraemon!

URI:https://www.capellades.cat/actualitat/agenda/taller-de-carnestoltes.html
CLASS:PUBLIC
END:VEVENT
END:VCALENDAR
