BEGIN:VCALENDAR
VERSION:2.0
CALSCALE:GREGORIAN
PRODID:-//Diputació de Barcelona//DibaCMS//EN
BEGIN:VEVENT
UID:3133
DTSTAMP:20260422T094331
DTSTART:20180201T153000
DTEND:20180228T203000
SUMMARY:Exposició de fotografies del capelladí César Rampe
LOCATION:C/ Pilar, 2 08786 Capellades
METHOD:PUBLISH
X-WR-CALNAME:capellades@capellades.cat
X-WR-TIMEZONE:Europe/Madrid
DESCRIPTION:La segona planta de la Biblioteca El Safareig de Capellades acollirà l'exposició amb les fotografies del capelladí César Rampe.

URI:https://www.capellades.cat/actualitat/agenda/exposicio-de-fotografies-del-capelladi-cesar-rampe.html
CLASS:PUBLIC
END:VEVENT
END:VCALENDAR
