BEGIN:VCALENDAR
VERSION:2.0
CALSCALE:GREGORIAN
PRODID:-//Diputació de Barcelona//DibaCMS//EN
BEGIN:VEVENT
UID:3132
DTSTAMP:20260421T185350
DTSTART:20180225T000000
DTEND:20180225T000000
SUMMARY:El Grup Teatral de Capellades compleix 40 anys
LOCATION:
METHOD:PUBLISH
X-WR-CALNAME:capellades@capellades.cat
X-WR-TIMEZONE:Europe/Madrid
DESCRIPTION:El Grup Teatral de Capellades celebrarà els seus 40 anys amb una gran festa!

URI:https://www.capellades.cat/actualitat/agenda/el-grup-teatral-de-capellades-compleix-40-anys.html
CLASS:PUBLIC
END:VEVENT
END:VCALENDAR
