BEGIN:VCALENDAR
VERSION:2.0
CALSCALE:GREGORIAN
PRODID:-//Diputació de Barcelona//DibaCMS//EN
BEGIN:VEVENT
UID:3131
DTSTAMP:20260420T045307
DTSTART:20180224T190000
DTEND:20180224T203000
SUMMARY:Concert d'Hivern a Paper de Música
LOCATION:
METHOD:PUBLISH
X-WR-CALNAME:capellades@capellades.cat
X-WR-TIMEZONE:Europe/Madrid
DESCRIPTION:A Paper de Música el Concert d'Hivern serà el darrer dissabte de mes, a les vuit del vespre.

URI:https://www.capellades.cat/actualitat/agenda/concert-dhivern-a-paper-de-musica.html
CLASS:PUBLIC
END:VEVENT
END:VCALENDAR
