BEGIN:VCALENDAR
VERSION:2.0
CALSCALE:GREGORIAN
PRODID:-//Diputació de Barcelona//DibaCMS//EN
BEGIN:VEVENT
UID:3130
DTSTAMP:20260421T115726
DTSTART:20180216T200000
DTEND:20180216T220000
SUMMARY:Cinefòrum: Estiu 1993
LOCATION:C/ del Fossar, 4 08786 Capellades
METHOD:PUBLISH
X-WR-CALNAME:capellades@capellades.cat
X-WR-TIMEZONE:Europe/Madrid
DESCRIPTION:Ignasi Riera serà l'encarregat de fer la presentació i conduir el col·loqui que es farà dins el Cinefòrum Josep Romanyà Montcada.

URI:https://www.capellades.cat/actualitat/agenda/cineforum-estiu-1993.html
CLASS:PUBLIC
END:VEVENT
END:VCALENDAR
