BEGIN:VCALENDAR
VERSION:2.0
CALSCALE:GREGORIAN
PRODID:-//Diputació de Barcelona//DibaCMS//EN
BEGIN:VEVENT
UID:3129
DTSTAMP:20260420T011114
DTSTART:20180213T150000
DTEND:20180213T163000
SUMMARY:Carnestoltes a l'Escola Marquès de la Pobla
LOCATION:Pg. Miquel i Mas, 19 08786 Capellades
METHOD:PUBLISH
X-WR-CALNAME:capellades@capellades.cat
X-WR-TIMEZONE:Europe/Madrid
DESCRIPTION:L'Escola Marquès de la Pobla celebra un any més la festa del Carnestoltes.

URI:https://www.capellades.cat/actualitat/agenda/carnestoltes-a-lescola-marques-de-la-pobla.html
CLASS:PUBLIC
END:VEVENT
END:VCALENDAR
