BEGIN:VCALENDAR
VERSION:2.0
CALSCALE:GREGORIAN
PRODID:-//Diputació de Barcelona//DibaCMS//EN
BEGIN:VEVENT
UID:3127
DTSTAMP:20260422T124506
DTSTART:20180211T170000
DTEND:20180211T190000
SUMMARY:Carnestoltes infantil
LOCATION:
METHOD:PUBLISH
X-WR-CALNAME:capellades@capellades.cat
X-WR-TIMEZONE:Europe/Madrid
DESCRIPTION:Xarxa Capellades i l'Ajuntament organitzen una nova edició del Carnestoltes Infantil.

Enguany es recupera la Rua, que sortirà a les 5 de la tarda de la Plaça Verdaguer fins al Pavelló Poliesportiu, per acompanyar la Reina Carnestoltes.

La festa començarà amb el pregó de la Reina Carnestoltes, el berenar i la música i diversió que portarà en Jaume Barri!

 

URI:https://www.capellades.cat/actualitat/agenda/carnestoltes-infantil.html
CLASS:PUBLIC
END:VEVENT
END:VCALENDAR
