BEGIN:VCALENDAR
VERSION:2.0
CALSCALE:GREGORIAN
PRODID:-//Diputació de Barcelona//DibaCMS//EN
BEGIN:VEVENT
UID:3124
DTSTAMP:20260421T132349
DTSTART:20180223T093000
DTEND:20180223T200000
SUMMARY:Visita guiada al MNAC
LOCATION:
METHOD:PUBLISH
X-WR-CALNAME:capellades@capellades.cat
X-WR-TIMEZONE:Europe/Madrid
DESCRIPTION:La Lliga proposa conèixer i gaudir el Museu Nacional d’Art de Catalunya, amb una visita guiada dins el programa “El Museu és teu” que inclou una variada oferta de visites i serveis perquè gaudiu d’una experiència única i personalitzada.

URI:https://www.capellades.cat/actualitat/agenda/visita-guiada-al-mnac.html
CLASS:PUBLIC
END:VEVENT
END:VCALENDAR
