BEGIN:VCALENDAR
VERSION:2.0
CALSCALE:GREGORIAN
PRODID:-//Diputació de Barcelona//DibaCMS//EN
BEGIN:VEVENT
UID:3122
DTSTAMP:20260422T012147
DTSTART:20180210T100000
DTEND:20180210T120000
SUMMARY:Taller de manualitats amb fusta
LOCATION:
METHOD:PUBLISH
X-WR-CALNAME:capellades@capellades.cat
X-WR-TIMEZONE:Europe/Madrid
DESCRIPTION:Vols fer-te un organitzador? La Marta i la Jua de Creative Lovers t'ensenyen com fer-ho.

URI:https://www.capellades.cat/actualitat/agenda/taller-de-manualitats-amb-fusta.html
CLASS:PUBLIC
END:VEVENT
END:VCALENDAR
