BEGIN:VCALENDAR
VERSION:2.0
CALSCALE:GREGORIAN
PRODID:-//Diputació de Barcelona//DibaCMS//EN
BEGIN:VEVENT
UID:3121
DTSTAMP:20260422T063414
DTSTART:20180209T193000
DTEND:20180209T210000
SUMMARY:Cinema: Un home anomenat Ove
LOCATION:
METHOD:PUBLISH
X-WR-CALNAME:capellades@capellades.cat
X-WR-TIMEZONE:Europe/Madrid
DESCRIPTION:Aquesta és una pel·lícula, dirigida per Hannes Holm, basada en la novel·la d’humor de l’escriptor suec Fredrik Backman.

URI:https://www.capellades.cat/actualitat/agenda/cinema-un-home-anomenat-ove.html
CLASS:PUBLIC
END:VEVENT
END:VCALENDAR
