BEGIN:VCALENDAR
VERSION:2.0
CALSCALE:GREGORIAN
PRODID:-//Diputació de Barcelona//DibaCMS//EN
BEGIN:VEVENT
UID:3119
DTSTAMP:20260422T124121
DTSTART:20180201T103000
DTEND:20180201T123000
SUMMARY:Curs: Què faig amb el meu mòbil?
LOCATION:
METHOD:PUBLISH
X-WR-CALNAME:capellades@capellades.cat
X-WR-TIMEZONE:Europe/Madrid
DESCRIPTION:La Lliga organitza una nova edició del curs: Què faig amb el meu mòbil?

Es farà durant 4 sessions, en dos nivells. Els del grup inicial comencen a les 10:30 i els de l'avançat a les 11:30.

 

URI:https://www.capellades.cat/actualitat/agenda/curs-que-faig-amb-el-meu-mobil.html
CLASS:PUBLIC
END:VEVENT
END:VCALENDAR
