BEGIN:VCALENDAR
VERSION:2.0
CALSCALE:GREGORIAN
PRODID:-//Diputació de Barcelona//DibaCMS//EN
BEGIN:VEVENT
UID:3118
DTSTAMP:20260422T140700
DTSTART:20180206T111500
DTEND:20180206T133000
SUMMARY:Santa Dorotea
LOCATION:
METHOD:PUBLISH
X-WR-CALNAME:capellades@capellades.cat
X-WR-TIMEZONE:Europe/Madrid
DESCRIPTION:Santa Dorotea serà el darrer dia de celebració de la Festa Major d'Hivern.

URI:https://www.capellades.cat/actualitat/agenda/santa-dorotea.html
CLASS:PUBLIC
END:VEVENT
END:VCALENDAR
