BEGIN:VCALENDAR
VERSION:2.0
CALSCALE:GREGORIAN
PRODID:-//Diputació de Barcelona//DibaCMS//EN
BEGIN:VEVENT
UID:3117
DTSTAMP:20260422T053703
DTSTART:20180205T193000
DTEND:20180205T203000
SUMMARY:La mala reputació
LOCATION:
METHOD:PUBLISH
X-WR-CALNAME:capellades@capellades.cat
X-WR-TIMEZONE:Europe/Madrid
DESCRIPTION:Dins la Festa Major d'Hivern, per al dilluns 5 de febrer s’ha programat un espectacle impulsat conjuntament des de la Diputació de Barcelona i la Fundació Romea.

URI:https://www.capellades.cat/actualitat/agenda/la-mala-reputacio.html
CLASS:PUBLIC
END:VEVENT
END:VCALENDAR
