BEGIN:VCALENDAR
VERSION:2.0
CALSCALE:GREGORIAN
PRODID:-//Diputació de Barcelona//DibaCMS//EN
BEGIN:VEVENT
UID:3116
DTSTAMP:20260422T051753
DTSTART:20180204T130000
DTEND:20180204T140000
SUMMARY:Concert Vermut
LOCATION:C/ Pilar, 13 08786 Capellades
METHOD:PUBLISH
X-WR-CALNAME:capellades@capellades.cat
X-WR-TIMEZONE:Europe/Madrid
DESCRIPTION:La Lliga ha organitzat un Concert vermut per al diumenge 4 de febrer, dins els actes de la Festa Major d'Hiverm.

URI:https://www.capellades.cat/actualitat/agenda/concert-vermut.html
CLASS:PUBLIC
END:VEVENT
END:VCALENDAR
