BEGIN:VCALENDAR
VERSION:2.0
CALSCALE:GREGORIAN
PRODID:-//Diputació de Barcelona//DibaCMS//EN
BEGIN:VEVENT
UID:3113
DTSTAMP:20260422T010733
DTSTART:20180203T230000
DTEND:20180204T010000
SUMMARY:Concert presentació del darrer treball del grup Chet
LOCATION:
METHOD:PUBLISH
X-WR-CALNAME:capellades@capellades.cat
X-WR-TIMEZONE:Europe/Madrid
DESCRIPTION:Al vespre hi haurà un dels plats forts de la programació amb l’estrena el primer llarga durada dels Chet, anomenat “Calidoscopi”.

URI:https://www.capellades.cat/actualitat/agenda/concert-presentacio-del-darrer-treball-del-grup-chet.html
CLASS:PUBLIC
END:VEVENT
END:VCALENDAR
