BEGIN:VCALENDAR
VERSION:2.0
CALSCALE:GREGORIAN
PRODID:-//Diputació de Barcelona//DibaCMS//EN
BEGIN:VEVENT
UID:3112
DTSTAMP:20260421T223041
DTSTART:20180203T123000
DTEND:20180203T130000
SUMMARY:Inauguració de l'exposició "Quadres d'artistes capelladins de la família Jorba-Vives"
LOCATION:C/ D'Oló 08786 Capellades
METHOD:PUBLISH
X-WR-CALNAME:capellades@capellades.cat
X-WR-TIMEZONE:Europe/Madrid
DESCRIPTION:Aquesta mostra s'ha fet amb la donació al fons d'art municipal que ha fet la família Jorba - Vives d'obres de difrents artistes capelladins.

URI:https://www.capellades.cat/actualitat/agenda/inauguracio-de-lexposicio-quadres-dartistes-capelladins-de-la-familia-jorba-vives.html
CLASS:PUBLIC
END:VEVENT
END:VCALENDAR
