BEGIN:VCALENDAR
VERSION:2.0
CALSCALE:GREGORIAN
PRODID:-//Diputació de Barcelona//DibaCMS//EN
BEGIN:VEVENT
UID:3111
DTSTAMP:20260422T063525
DTSTART:20180206T080000
DTEND:20180206T190000
SUMMARY:Calçotada a l'Alt Camp de la Penya Blaugrana de Capellades
LOCATION:
METHOD:PUBLISH
X-WR-CALNAME:capellades@capellades.cat
X-WR-TIMEZONE:Europe/Madrid
DESCRIPTION:El dia 6 de febrer la Penya Blaugrana proposa una sortida a l'Alt Camp.

 

URI:https://www.capellades.cat/actualitat/agenda/calcotada-a-lalt-camp-de-la-penya-blaugrana-de-capellades.html
CLASS:PUBLIC
END:VEVENT
END:VCALENDAR
