BEGIN:VCALENDAR
VERSION:2.0
CALSCALE:GREGORIAN
PRODID:-//Diputació de Barcelona//DibaCMS//EN
BEGIN:VEVENT
UID:3096
DTSTAMP:20260422T051950
DTSTART:20180202T180000
DTEND:20180202T190000
SUMMARY:Presentació del voluntariat per la llengua
LOCATION:C/ Pilar, 2 08786 Capellades
METHOD:PUBLISH
X-WR-CALNAME:capellades@capellades.cat
X-WR-TIMEZONE:Europe/Madrid
DESCRIPTION:El divendres 2 de febrer es presentarà a la Biblioteca El Safareig el voluntariat per la llengua. 

URI:https://www.capellades.cat/actualitat/agenda/presentacio-del-voluntariat-per-la-llengua.html
CLASS:PUBLIC
END:VEVENT
END:VCALENDAR
