BEGIN:VCALENDAR
VERSION:2.0
CALSCALE:GREGORIAN
PRODID:-//Diputació de Barcelona//DibaCMS//EN
BEGIN:VEVENT
UID:3090
DTSTAMP:20260421T110033
DTSTART:20180218T090000
DTEND:20180218T140000
SUMMARY:Sortida de Caminant per la Comarca
LOCATION:Avda. Maties Guasch 08786 Capellades
METHOD:PUBLISH
X-WR-CALNAME:capellades@capellades.cat
X-WR-TIMEZONE:Europe/Madrid
DESCRIPTION:La propera sortida del grup Caminant per la Comarca, d'AEMdeKP, serà per Rubió, on es farà la Ruta dels Bandolers.

URI:https://www.capellades.cat/actualitat/agenda/sortida-de-caminant-per-la-comarca.html
CLASS:PUBLIC
END:VEVENT
END:VCALENDAR
