BEGIN:VCALENDAR
VERSION:2.0
CALSCALE:GREGORIAN
PRODID:-//Diputació de Barcelona//DibaCMS//EN
BEGIN:VEVENT
UID:3087
DTSTAMP:20260421T203219
DTSTART:20180122T180000
DTEND:20180122T200000
SUMMARY:Assemblea a Cal Ponet
LOCATION:C/ Divina Pastora, 1 08786 Capellades
METHOD:PUBLISH
X-WR-CALNAME:capellades@capellades.cat
X-WR-TIMEZONE:Europe/Madrid
DESCRIPTION:El dilluns 22 de gener es fa a les 6 de la tarda una assemblea per a totes les persones de l'Associació de Pensionistes i Jubilats de Cal Ponet.

URI:https://www.capellades.cat/actualitat/agenda/assemblea-a-cal-ponet.html
CLASS:PUBLIC
END:VEVENT
END:VCALENDAR
