BEGIN:VCALENDAR
VERSION:2.0
CALSCALE:GREGORIAN
PRODID:-//Diputació de Barcelona//DibaCMS//EN
BEGIN:VEVENT
UID:3072
DTSTAMP:20260419T183018
DTSTART:20180123T180000
DTEND:20180123T190000
SUMMARY:Laboratori de lectura sobre els monstres
LOCATION:
METHOD:PUBLISH
X-WR-CALNAME:capellades@capellades.cat
X-WR-TIMEZONE:Europe/Madrid
DESCRIPTION:La Biblioteca El Safareig proposa un nou laboratori de lectura sobre els monstres.

URI:https://www.capellades.cat/actualitat/agenda/laboratori-de-lectura-sobre-els-monstres.html
CLASS:PUBLIC
END:VEVENT
END:VCALENDAR
