BEGIN:VCALENDAR
VERSION:2.0
CALSCALE:GREGORIAN
PRODID:-//Diputació de Barcelona//DibaCMS//EN
BEGIN:VEVENT
UID:3071
DTSTAMP:20260422T021527
DTSTART:20180130T120000
DTEND:20180130T124500
SUMMARY:Jornada de la Pau a l'escola Marquès de la Pobla
LOCATION:Pg. Miquel i Mas, 19 08786 Capellades
METHOD:PUBLISH
X-WR-CALNAME:capellades@capellades.cat
X-WR-TIMEZONE:Europe/Madrid
DESCRIPTION:L'Escola Marquès de la Pobla organitza per al dimarts 30 de gener una jornada de la Pau per a tots els seus alumnes.

URI:https://www.capellades.cat/actualitat/agenda/jornada-de-la-pau-a-lescola-marques-de-la-pobla.html
CLASS:PUBLIC
END:VEVENT
END:VCALENDAR
