BEGIN:VCALENDAR
VERSION:2.0
CALSCALE:GREGORIAN
PRODID:-//Diputació de Barcelona//DibaCMS//EN
BEGIN:VEVENT
UID:3070
DTSTAMP:20260422T051056
DTSTART:20180128T110000
DTEND:20180128T130000
SUMMARY:Assemblea anual de socis de La Lliga
LOCATION:
METHOD:PUBLISH
X-WR-CALNAME:capellades@capellades.cat
X-WR-TIMEZONE:Europe/Madrid
DESCRIPTION:La Societat La Lliga convoca a tots els seus socis i sòcies a l'assemblea anual.

URI:https://www.capellades.cat/actualitat/agenda/assemblea-anual-de-socis-de-la-lliga.html
CLASS:PUBLIC
END:VEVENT
END:VCALENDAR
