BEGIN:VCALENDAR
VERSION:2.0
CALSCALE:GREGORIAN
PRODID:-//Diputació de Barcelona//DibaCMS//EN
BEGIN:VEVENT
UID:3069
DTSTAMP:20260422T093231
DTSTART:20180127T183000
DTEND:20180127T230000
SUMMARY:De tant en tant, a Barcelona al teatre
LOCATION:
METHOD:PUBLISH
X-WR-CALNAME:capellades@capellades.cat
X-WR-TIMEZONE:Europe/Madrid
DESCRIPTION:La Societat La Lliga proposa anar de tant en tant a Barcelona a veure teatre.

URI:https://www.capellades.cat/actualitat/agenda/3069-de-tant-en-tant-a-barcelona-al-teatre.html
CLASS:PUBLIC
END:VEVENT
END:VCALENDAR
