BEGIN:VCALENDAR
VERSION:2.0
CALSCALE:GREGORIAN
PRODID:-//Diputació de Barcelona//DibaCMS//EN
BEGIN:VEVENT
UID:3068
DTSTAMP:20260421T215112
DTSTART:20180126T193000
DTEND:20180126T203000
SUMMARY:Poesia al Cafè, amb Joan Seus
LOCATION:C/ Pilar, 13 08786 Capellades
METHOD:PUBLISH
X-WR-CALNAME:capellades@capellades.cat
X-WR-TIMEZONE:Europe/Madrid
DESCRIPTION:Nova trobada poètica amb Joan Seus, a la Cafeteria de La Lliga, oberta a totes les edats.

URI:https://www.capellades.cat/actualitat/agenda/poesia-al-cafe-amb-joan-seus.html
CLASS:PUBLIC
END:VEVENT
END:VCALENDAR
