BEGIN:VCALENDAR
VERSION:2.0
CALSCALE:GREGORIAN
PRODID:-//Diputació de Barcelona//DibaCMS//EN
BEGIN:VEVENT
UID:3066
DTSTAMP:20260421T232216
DTSTART:20180125T210000
DTEND:20180125T230000
SUMMARY:Sopem lligats amb el Ton Font Bernadet
LOCATION:C/ Pilar, 13 08786 Capellades
METHOD:PUBLISH
X-WR-CALNAME:capellades@capellades.cat
X-WR-TIMEZONE:Europe/Madrid
DESCRIPTION:Aquest gener es farà finalment el sopar previst amb en Ton Font Bernadet.

URI:https://www.capellades.cat/actualitat/agenda/sopem-lligats-amb-el-ton-font-bernadet.html
CLASS:PUBLIC
END:VEVENT
END:VCALENDAR
