BEGIN:VCALENDAR
VERSION:2.0
CALSCALE:GREGORIAN
PRODID:-//Diputació de Barcelona//DibaCMS//EN
BEGIN:VEVENT
UID:3065
DTSTAMP:20260422T063717
DTSTART:20180125T093000
DTEND:20180125T113000
SUMMARY:"Mou-te" amb el CAP Capellades
LOCATION:C/ Torrenova, s/n 08786 Capellades
METHOD:PUBLISH
X-WR-CALNAME:capellades@capellades.cat
X-WR-TIMEZONE:Europe/Madrid
DESCRIPTION:Aquest any 2018 segueixen les caminades proposades des del CAP Capellades.

URI:https://www.capellades.cat/actualitat/agenda/3065-mou-te-amb-el-cap-capellades.html
CLASS:PUBLIC
END:VEVENT
END:VCALENDAR
