BEGIN:VCALENDAR
VERSION:2.0
CALSCALE:GREGORIAN
PRODID:-//Diputació de Barcelona//DibaCMS//EN
BEGIN:VEVENT
UID:3064
DTSTAMP:20260422T140817
DTSTART:20180130T180000
DTEND:20180130T193000
SUMMARY:Projecció de la pel·lícula "ORM, el regne de les neus"
LOCATION:C/ Pilar, 2 08786 Capellades
METHOD:PUBLISH
X-WR-CALNAME:capellades@capellades.cat
X-WR-TIMEZONE:Europe/Madrid
DESCRIPTION:A les sis de la tarda començarà la projecció de la pel·lícula "ORM, el regne de les neus".

URI:https://www.capellades.cat/actualitat/agenda/projeccio-de-la-pellicula-orm-el-regne-de-les-neus.html
CLASS:PUBLIC
END:VEVENT
END:VCALENDAR
