BEGIN:VCALENDAR
VERSION:2.0
CALSCALE:GREGORIAN
PRODID:-//Diputació de Barcelona//DibaCMS//EN
BEGIN:VEVENT
UID:3061
DTSTAMP:20260421T162857
DTSTART:20180119T210000
DTEND:20180119T235500
SUMMARY:Sopar dels col·laboradors dels Pastorets
LOCATION:C/ Pilar, 13 08786 Capellades
METHOD:PUBLISH
X-WR-CALNAME:capellades@capellades.cat
X-WR-TIMEZONE:Europe/Madrid
DESCRIPTION:El divendres 19 de gener es farà el sopar amb les persones que han col·laborat en els Pastorets de Capellades.

URI:https://www.capellades.cat/actualitat/agenda/sopar-dels-collaboradors-dels-pastorets.html
CLASS:PUBLIC
END:VEVENT
END:VCALENDAR
