BEGIN:VCALENDAR
VERSION:2.0
CALSCALE:GREGORIAN
PRODID:-//Diputació de Barcelona//DibaCMS//EN
BEGIN:VEVENT
UID:3054
DTSTAMP:20260421T172204
DTSTART:20180121T180000
DTEND:20180121T193000
SUMMARY:Màgia amb Xarxa Capellades
LOCATION:
METHOD:PUBLISH
X-WR-CALNAME:capellades@capellades.cat
X-WR-TIMEZONE:Europe/Madrid
DESCRIPTION:Xarxa Capellades proposa un nou espectacle per començar l'any.

URI:https://www.capellades.cat/actualitat/agenda/magia-amb-xarxa-capellades.html
CLASS:PUBLIC
END:VEVENT
END:VCALENDAR
