BEGIN:VCALENDAR
VERSION:2.0
CALSCALE:GREGORIAN
PRODID:-//Diputació de Barcelona//DibaCMS//EN
BEGIN:VEVENT
UID:3053
DTSTAMP:20260421T202847
DTSTART:20180118T193000
DTEND:20180118T210000
SUMMARY:Xerrada divulgativa: Som Energia
LOCATION:C/ Pilar, 13 08786 Capellades
METHOD:PUBLISH
X-WR-CALNAME:capellades@capellades.cat
X-WR-TIMEZONE:Europe/Madrid
DESCRIPTION:Som Energia és una cooperativa de consum d’energia verda sense ànim de lucre.

URI:https://www.capellades.cat/actualitat/agenda/xerrada-divulgativa-som-energia.html
CLASS:PUBLIC
END:VEVENT
END:VCALENDAR
