BEGIN:VCALENDAR
VERSION:2.0
CALSCALE:GREGORIAN
PRODID:-//Diputació de Barcelona//DibaCMS//EN
BEGIN:VEVENT
UID:3052
DTSTAMP:20260422T045931
DTSTART:20180127T190000
DTEND:20180127T210000
SUMMARY:Flamenco a Paper de Música
LOCATION:C/ del Fossar, 4 08786 Capellades
METHOD:PUBLISH
X-WR-CALNAME:capellades@capellades.cat
X-WR-TIMEZONE:Europe/Madrid
DESCRIPTION:El concert d'aquest mes de gener a Paper de Música tindrà el flamenco com a protagonista.

URI:https://www.capellades.cat/actualitat/agenda/flamenco-a-paper-de-musica.html
CLASS:PUBLIC
END:VEVENT
END:VCALENDAR
