BEGIN:VCALENDAR
VERSION:2.0
CALSCALE:GREGORIAN
PRODID:-//Diputació de Barcelona//DibaCMS//EN
BEGIN:VEVENT
UID:3050
DTSTAMP:20260422T012116
DTSTART:20180113T160000
DTEND:20180113T180000
SUMMARY:Curs de Photoshop
LOCATION:
METHOD:PUBLISH
X-WR-CALNAME:capellades@capellades.cat
X-WR-TIMEZONE:Europe/Madrid
DESCRIPTION:L'Agrupació Fotogràfica Capellades organitza un curs de photoshop per als seus associats durant aquest mes de gener. Serà els dissabtes 13, 20 i 27 i seguirà els dissabtes 3 i 10 de febrer.

URI:https://www.capellades.cat/actualitat/agenda/curs-de-photoshop.html
CLASS:PUBLIC
END:VEVENT
END:VCALENDAR
