BEGIN:VCALENDAR
VERSION:2.0
CALSCALE:GREGORIAN
PRODID:-//Diputació de Barcelona//DibaCMS//EN
BEGIN:VEVENT
UID:3048
DTSTAMP:20260422T121046
DTSTART:20180114T110000
DTEND:20180114T120000
SUMMARY:L'Esbart Dansot a la Fundació Consorts Guasch
LOCATION:
METHOD:PUBLISH
X-WR-CALNAME:capellades@capellades.cat
X-WR-TIMEZONE:Europe/Madrid
DESCRIPTION:L'Esbart Dansot actuarà aquest diumenge 14 de gener a la Fundació Consorts Guasch.

URI:https://www.capellades.cat/actualitat/agenda/lesbart-dansot-a-la-fundacio-consorts-guasch.html
CLASS:PUBLIC
END:VEVENT
END:VCALENDAR
