BEGIN:VCALENDAR
VERSION:2.0
CALSCALE:GREGORIAN
PRODID:-//Diputació de Barcelona//DibaCMS//EN
BEGIN:VEVENT
UID:3047
DTSTAMP:20260422T092444
DTSTART:20180114T090000
DTEND:20180114T140000
SUMMARY:Caminant per la Comarca
LOCATION:Avda. Maties Guasch 08786 Capellades
METHOD:PUBLISH
X-WR-CALNAME:capellades@capellades.cat
X-WR-TIMEZONE:Europe/Madrid
DESCRIPTION:Aquest diumenge 14 de gener es farà una nova sortida organitzada des del grup Caminant per la Comarca d'AEMdeKP.

URI:https://www.capellades.cat/actualitat/agenda/3047-caminant-per-la-comarca.html
CLASS:PUBLIC
END:VEVENT
END:VCALENDAR
