BEGIN:VCALENDAR
VERSION:2.0
CALSCALE:GREGORIAN
PRODID:-//Diputació de Barcelona//DibaCMS//EN
BEGIN:VEVENT
UID:3029
DTSTAMP:20260420T024241
DTSTART:20171224T120000
DTEND:20171224T130000
SUMMARY:Festa del Caga Tió Capellades Comerç
LOCATION:
METHOD:PUBLISH
X-WR-CALNAME:capellades@capellades.cat
X-WR-TIMEZONE:Europe/Madrid
DESCRIPTION:Capellades Comerç organitza novament la Festa del Caga Tió.

URI:https://www.capellades.cat/actualitat/agenda/festa-del-caga-tio-capellades-comerc.html
CLASS:PUBLIC
END:VEVENT
END:VCALENDAR
