BEGIN:VCALENDAR
VERSION:2.0
CALSCALE:GREGORIAN
PRODID:-//Diputació de Barcelona//DibaCMS//EN
BEGIN:VEVENT
UID:3028
DTSTAMP:20260422T124028
DTSTART:20180107T121500
DTEND:20180107T130000
SUMMARY:Entrega de premis del Concurs Infantil de Pessebres
LOCATION:Plaça Verdaguer 08786 Capellades
METHOD:PUBLISH
X-WR-CALNAME:capellades@capellades.cat
X-WR-TIMEZONE:Europe/Madrid
DESCRIPTION:Els Amics dels Pessebres i la Parròquia de Santa Maria organitzen novament el Concurs Infantil de Pessebres.

URI:https://www.capellades.cat/actualitat/agenda/entrega-de-premis-del-concurs-infantil-de-pessebres.html
CLASS:PUBLIC
END:VEVENT
END:VCALENDAR
