BEGIN:VCALENDAR
VERSION:2.0
CALSCALE:GREGORIAN
PRODID:-//Diputació de Barcelona//DibaCMS//EN
BEGIN:VEVENT
UID:3027
DTSTAMP:20260422T133432
DTSTART:20180107T180000
DTEND:20180107T200000
SUMMARY:Segona representació dels Pastorets de Capellades
LOCATION:C/ Pilar, 13 08786 Capellades
METHOD:PUBLISH
X-WR-CALNAME:capellades@capellades.cat
X-WR-TIMEZONE:Europe/Madrid
DESCRIPTION:La segona representació dels Pastorets organitzats pel Grup Teatral de Capellades serà el diumenge 7 de gener a les sis de la tarda al Teatre La Lliga de Capellades.

URI:https://www.capellades.cat/actualitat/agenda/segona-representacio-dels-pastorets-de-capellades.html
CLASS:PUBLIC
END:VEVENT
END:VCALENDAR
