BEGIN:VCALENDAR
VERSION:2.0
CALSCALE:GREGORIAN
PRODID:-//Diputació de Barcelona//DibaCMS//EN
BEGIN:VEVENT
UID:3026
DTSTAMP:20260422T075104
DTSTART:20180105T190000
DTEND:20180105T210000
SUMMARY:Cavalcada Reial de Ses Magestats els Reis d'Orient
LOCATION:
METHOD:PUBLISH
X-WR-CALNAME:capellades@capellades.cat
X-WR-TIMEZONE:Europe/Madrid
DESCRIPTION:Ses Magestats els Reis d'Orient, Melcior, Gaspar i Baltassar, faran la seva arribada a Capellades el divendres 5 de gener, a les 7 de la tarda, a la plaça Àngel Guimerà.

URI:https://www.capellades.cat/actualitat/agenda/cavalcada-reial-de-ses-magestats-els-reis-dorient.html
CLASS:PUBLIC
END:VEVENT
END:VCALENDAR
