BEGIN:VCALENDAR
VERSION:2.0
CALSCALE:GREGORIAN
PRODID:-//Diputació de Barcelona//DibaCMS//EN
BEGIN:VEVENT
UID:3025
DTSTAMP:20260422T070607
DTSTART:20180104T153000
DTEND:20180104T163000
SUMMARY:Actuació a la Residència del grup de Bolliwood de Vilanova del Camí
LOCATION:Passeig de la Immaculada Concepció, 3 08786 Capellades
METHOD:PUBLISH
X-WR-CALNAME:capellades@capellades.cat
X-WR-TIMEZONE:Europe/Madrid
DESCRIPTION:El grup de dansa de Bolliwood de Vilanova del Camí, actuarà per als avis i àvies de la Residència de Capellades.

URI:https://www.capellades.cat/actualitat/agenda/actuacio-a-la-residencia-del-grup-de-bolliwood-de-vilanova-del-cami.html
CLASS:PUBLIC
END:VEVENT
END:VCALENDAR
