BEGIN:VCALENDAR
VERSION:2.0
CALSCALE:GREGORIAN
PRODID:-//Diputació de Barcelona//DibaCMS//EN
BEGIN:VEVENT
UID:3024
DTSTAMP:20260422T110922
DTSTART:20180101T180000
DTEND:20180101T200000
SUMMARY:Recollida de cartes del Patge Kamalú
LOCATION:Plaça Verdaguer 08786 Capellades
METHOD:PUBLISH
X-WR-CALNAME:capellades@capellades.cat
X-WR-TIMEZONE:Europe/Madrid
DESCRIPTION:L'emissari reial, el Patge Kamalú, i tots els seus acompanyants seran a Capellades el dilluns 1 de gener a les 6 de la tarda, a l'església de Santa Maria, per rebre totes les cartes que els vulguin fer arribar els nens i nenes de Capellades.

URI:https://www.capellades.cat/actualitat/agenda/recollida-de-cartes-del-patge-kamalu.html
CLASS:PUBLIC
END:VEVENT
END:VCALENDAR
