BEGIN:VCALENDAR
VERSION:2.0
CALSCALE:GREGORIAN
PRODID:-//Diputació de Barcelona//DibaCMS//EN
BEGIN:VEVENT
UID:3023
DTSTAMP:20260422T063303
DTSTART:20171223T120000
DTEND:20180105T200000
SUMMARY:II Mercat d'Art
LOCATION:C/ D'Oló 08786 Capellades
METHOD:PUBLISH
X-WR-CALNAME:capellades@capellades.cat
X-WR-TIMEZONE:Europe/Madrid
DESCRIPTION:Aquest Nadal l'Ajuntament de Capellades i El Taller organitzen la segona edició del Mercat d'Art.

URI:https://www.capellades.cat/actualitat/agenda/ii-mercat-dart.html
CLASS:PUBLIC
END:VEVENT
END:VCALENDAR
