BEGIN:VCALENDAR
VERSION:2.0
CALSCALE:GREGORIAN
PRODID:-//Diputació de Barcelona//DibaCMS//EN
BEGIN:VEVENT
UID:3022
DTSTAMP:20260421T172348
DTSTART:20171228T160000
DTEND:20180104T200000
SUMMARY:Saló de la Infància de Capellades
LOCATION:Avda. Maties Guasch 08786 Capellades
METHOD:PUBLISH
X-WR-CALNAME:capellades@capellades.cat
X-WR-TIMEZONE:Europe/Madrid
DESCRIPTION:El Saló de la Infància de Capellades es farà del 28 de desembre al 4 de gener al Pavelló Poliesportiu de Capellades.

URI:https://www.capellades.cat/actualitat/agenda/3022-salo-de-la-infancia-de-capellades.html
CLASS:PUBLIC
END:VEVENT
END:VCALENDAR
